BEGIN:VCALENDAR
VERSION:2.0
PRODID:-//Moonshot Museum - ECPv6.15.20//NONSGML v1.0//EN
CALSCALE:GREGORIAN
METHOD:PUBLISH
X-WR-CALNAME:Moonshot Museum
X-ORIGINAL-URL:https://moonshotmuseum.org
X-WR-CALDESC:Events for Moonshot Museum
REFRESH-INTERVAL;VALUE=DURATION:PT1H
X-Robots-Tag:noindex
X-PUBLISHED-TTL:PT1H
BEGIN:VTIMEZONE
TZID:America/New_York
BEGIN:DAYLIGHT
TZOFFSETFROM:-0500
TZOFFSETTO:-0400
TZNAME:EDT
DTSTART:20220313T070000
END:DAYLIGHT
BEGIN:STANDARD
TZOFFSETFROM:-0400
TZOFFSETTO:-0500
TZNAME:EST
DTSTART:20221106T060000
END:STANDARD
BEGIN:DAYLIGHT
TZOFFSETFROM:-0500
TZOFFSETTO:-0400
TZNAME:EDT
DTSTART:20230312T070000
END:DAYLIGHT
BEGIN:STANDARD
TZOFFSETFROM:-0400
TZOFFSETTO:-0500
TZNAME:EST
DTSTART:20231105T060000
END:STANDARD
BEGIN:DAYLIGHT
TZOFFSETFROM:-0500
TZOFFSETTO:-0400
TZNAME:EDT
DTSTART:20240310T070000
END:DAYLIGHT
BEGIN:STANDARD
TZOFFSETFROM:-0400
TZOFFSETTO:-0500
TZNAME:EST
DTSTART:20241103T060000
END:STANDARD
END:VTIMEZONE
BEGIN:VTIMEZONE
TZID:UTC
BEGIN:STANDARD
TZOFFSETFROM:+0000
TZOFFSETTO:+0000
TZNAME:UTC
DTSTART:20210101T000000
END:STANDARD
END:VTIMEZONE
BEGIN:VEVENT
DTSTART;TZID=America/New_York:20230521T090000
DTEND;TZID=America/New_York:20230521T110000
DTSTAMP:20260419T091859
CREATED:20230224T191809Z
LAST-MODIFIED:20230224T191809Z
UID:901-1684659600-1684666800@moonshotmuseum.org
SUMMARY:Remake Learning - Lunar Settlers Mission
DESCRIPTION:Special Edition Lunar Settlers Mission for the public – Must RSVP\, limited to 30 students
URL:https://moonshotmuseum.org/event/remake-learning-lunar-settlers-mission/
LOCATION:Moonshot Museum\, 1016 N. Lincoln Ave.\, Pittsburgh\, PA\, 15233\, United States
ORGANIZER;CN="Moonshot Museum":MAILTO:hello@moonshotmuseum.org
END:VEVENT
BEGIN:VEVENT
DTSTART;TZID=UTC:20221015T090000
DTEND;TZID=UTC:20221015T160000
DTSTAMP:20260419T091859
CREATED:20220818T202550Z
LAST-MODIFIED:20221001T181117Z
UID:619-1665824400-1665849600@moonshotmuseum.org
SUMMARY:Moonshot Museum Grand Opening Celebration
DESCRIPTION:Join us for the grand opening of Moonshot Museum! We’ll start our first-ever day open to our community with a special event showcasing local and national leaders including County Executive Rich Fitzgerald\, Mayor Ed Gainey\, and NASA’s Dr. Lori Glaze. Plus\, dive into spectacular science\, a ribbon cutting\, and exclusive opening day giveaways! \nFeaturing special activities throughout the day with: \n\nAstrobotic\nCarnegie Science Center\nManchester Craftsmen’s Guild\nBots IQ\nAmateur Astronomer’s Association of Pittsburgh\nAttack Theater\nMattress Factory\nWigle Whiskey\n\n… and many more! Stay tuned for more details in the coming weeks.
URL:https://moonshotmuseum.org/event/moonshot-museum-grand-opening-celebration/
LOCATION:Moonshot Museum\, 1016 N. Lincoln Ave.\, Pittsburgh\, PA\, 15233\, United States
ATTACH;FMTTYPE=image/jpeg:https://moonshotmuseum.org/wp-content/uploads/2022/08/Moonshot_Scene-01_Lobby.jpg
END:VEVENT
BEGIN:VEVENT
DTSTART;TZID=UTC:20221013T140000
DTEND;TZID=UTC:20221013T190000
DTSTAMP:20260419T091859
CREATED:20220822T224826Z
LAST-MODIFIED:20221001T181659Z
UID:629-1665669600-1665687600@moonshotmuseum.org
SUMMARY:Northside Neighbors Day
DESCRIPTION:Calling all Northside Neighbors! Be among the first to experience Moonshot Museum ahead of our public opening on October 15! Join us for a FREE preview day just for Northsiders on Thursday\, October 13\, from 2:00 – 7:00 p.m. as we celebrate the launch of an out-of-this-world Museum. \nVisitors are asked to show proof of residency in a Northside zip code (15214\, 15233\, 15212) at the door and receive free admission on this exclusive preview day. \nNorthside Neighbors Day is Generously Supported by Dollar Bank
URL:https://moonshotmuseum.org/event/northside-neighbors-day/
LOCATION:Moonshot Museum\, 1016 N. Lincoln Ave.\, Pittsburgh\, PA\, 15233\, United States
ATTACH;FMTTYPE=image/jpeg:https://moonshotmuseum.org/wp-content/uploads/2022/08/NORTHSIDE-NEIGHBORS.jpg
END:VEVENT
BEGIN:VEVENT
DTSTART;TZID=UTC:20220602T180000
DTEND;TZID=UTC:20220602T190000
DTSTAMP:20260419T091859
CREATED:20220509T231006Z
LAST-MODIFIED:20220816T235623Z
UID:567-1654192800-1654196400@moonshotmuseum.org
SUMMARY:Virtual Volunteer Info Session
DESCRIPTION:It takes people of all skillsets and backgrounds to move the space industry forward\, and it will take an incredible crew of volunteers to bring Moonshot Museum to life for our visitors! Join us the evening of Thursday\, June 2\, for an info session focused on volunteering with Moonshot Museum\, the application process\, and how you can play a role in launching a museum unlike any other. Register via the link above! \nThis virtual event will be hosted via Zoom.
URL:https://moonshotmuseum.org/event/virtual-volunteer-info-session-2/
LOCATION:Online via Zoom
ATTACH;FMTTYPE=image/png:https://moonshotmuseum.org/wp-content/uploads/2021/10/2.-Cleanroom_View_Photoshopped_TEO.png
END:VEVENT
BEGIN:VEVENT
DTSTART;TZID=UTC:20220526T180000
DTEND;TZID=UTC:20220526T190000
DTSTAMP:20260419T091859
CREATED:20220509T224943Z
LAST-MODIFIED:20220816T235832Z
UID:565-1653588000-1653591600@moonshotmuseum.org
SUMMARY:Virtual Volunteer Info Session
DESCRIPTION:It takes people of all skillsets and backgrounds to move the space industry forward\, and it will take an incredible crew of volunteers to bring Moonshot Museum to life for our visitors! Join us the evening of Thursday\, May 26\, for an info session focused on volunteering with Moonshot Museum\, the application process\, and how you can play a role in launching a museum unlike any other. Register via the link above! \nThis virtual event will be hosted via Zoom.
URL:https://moonshotmuseum.org/event/virtual-volunteer-info-session/
LOCATION:Online via Zoom
ATTACH;FMTTYPE=image/png:https://moonshotmuseum.org/wp-content/uploads/2021/10/2.-Cleanroom_View_Photoshopped_TEO.png
END:VEVENT
BEGIN:VEVENT
DTSTART;TZID=UTC:20220507T100000
DTEND;TZID=UTC:20220507T160000
DTSTAMP:20260419T091859
CREATED:20220418T231833Z
LAST-MODIFIED:20220816T235429Z
UID:560-1651917600-1651939200@moonshotmuseum.org
SUMMARY:DOORS OPEN Pittsburgh
DESCRIPTION:See the future home of Moonshot Museum at Astrobotic\, where real spacecraft are under construction\, and go behind the scenes of more than 30 other fascinating buildings across the Northside! \nTickets are required for this event. Learn more\, see the full list of participating buildings\, and purchase tickets at http://doorsopenpgh.org/event/neighborhood-event-northside/.
URL:https://moonshotmuseum.org/event/doors-open-pittsburgh/
LOCATION:Moonshot Museum\, 1016 N. Lincoln Ave.\, Pittsburgh\, PA\, 15233\, United States
ATTACH;FMTTYPE=image/jpeg:https://moonshotmuseum.org/wp-content/uploads/2022/04/278230688_3207518842810059_8390224050851364779_n.jpeg
END:VEVENT
BEGIN:VEVENT
DTSTART;VALUE=DATE:20220420
DTEND;VALUE=DATE:20220422
DTSTAMP:20260419T091859
CREATED:20220418T232817Z
LAST-MODIFIED:20220816T235932Z
UID:562-1650412800-1650585599@moonshotmuseum.org
SUMMARY:2022 Keystone Space Collaborative Inaugural Conference
DESCRIPTION:Join space industry leaders\, educators\, and policymakers from across the wider Western Pennsylvania region for the Keystone Space Collaborative’s inaugural conference! See the full lineup of speakers\, including representatives from Moonshot Museum\, and register here: http://www.keystonespace.org/collaborative-inaugural-conference
URL:https://moonshotmuseum.org/event/2022-keystone-space-collaborative-inaugural-conference/
LOCATION:Online via Zoom
ATTACH;FMTTYPE=image/png:https://moonshotmuseum.org/wp-content/uploads/2022/04/Screen-Shot-2022-04-18-at-3.27.34-PM.png
END:VEVENT
END:VCALENDAR