BEGIN:VCALENDAR
VERSION:2.0
PRODID:-//Moonshot Museum - ECPv6.15.20//NONSGML v1.0//EN
CALSCALE:GREGORIAN
METHOD:PUBLISH
X-WR-CALNAME:Moonshot Museum
X-ORIGINAL-URL:https://moonshotmuseum.org
X-WR-CALDESC:Events for Moonshot Museum
REFRESH-INTERVAL;VALUE=DURATION:PT1H
X-Robots-Tag:noindex
X-PUBLISHED-TTL:PT1H
BEGIN:VTIMEZONE
TZID:America/New_York
BEGIN:DAYLIGHT
TZOFFSETFROM:-0500
TZOFFSETTO:-0400
TZNAME:EDT
DTSTART:20250309T070000
END:DAYLIGHT
BEGIN:STANDARD
TZOFFSETFROM:-0400
TZOFFSETTO:-0500
TZNAME:EST
DTSTART:20251102T060000
END:STANDARD
BEGIN:DAYLIGHT
TZOFFSETFROM:-0500
TZOFFSETTO:-0400
TZNAME:EDT
DTSTART:20260308T070000
END:DAYLIGHT
BEGIN:STANDARD
TZOFFSETFROM:-0400
TZOFFSETTO:-0500
TZNAME:EST
DTSTART:20261101T060000
END:STANDARD
BEGIN:DAYLIGHT
TZOFFSETFROM:-0500
TZOFFSETTO:-0400
TZNAME:EDT
DTSTART:20270314T070000
END:DAYLIGHT
BEGIN:STANDARD
TZOFFSETFROM:-0400
TZOFFSETTO:-0500
TZNAME:EST
DTSTART:20271107T060000
END:STANDARD
END:VTIMEZONE
BEGIN:VEVENT
DTSTART;TZID=America/New_York:20260326T180000
DTEND;TZID=America/New_York:20260326T203000
DTSTAMP:20260419T084749
CREATED:20260213T211840Z
LAST-MODIFIED:20260216T210127Z
UID:1318-1774548000-1774557000@moonshotmuseum.org
SUMMARY:Women In Space
DESCRIPTION:Join us for Women in Space\, a 21+ evening experience dedicated to shining a spotlight on women trailblazing the future of space science\, technology\, engineering\, and exploration. \nDesigned for adults\, this dynamic event brings together professionals\, educators\, industry leaders\, and space enthusiasts for an inspiring night of conversation and connection. Guests will hear from distinguished speakers\, engage in interactive panel discussions\, and build meaningful community with women and allies passionate about shaping the future of the space industry. \nEnjoy thoughtful dialogue\, curated networking\, and an atmosphere that blends inspiration with celebration — all within the immersive setting of Moonshot Museum. \nTickets are required for this event. 
URL:https://moonshotmuseum.org/event/women-in-space/
LOCATION:Moonshot Museum\, 1016 N. Lincoln Ave.\, Pittsburgh\, PA\, 15233\, United States
ATTACH;FMTTYPE=image/png:https://moonshotmuseum.org/wp-content/uploads/2026/02/Blue-and-Pink-Gradient-Elegant-Modern-3D-Shape-Hologram-Illustrative-Workshop-Technology-LinkedIn-Post-2.png
ORGANIZER;CN="Moonshot Museum":MAILTO:hello@moonshotmuseum.org
END:VEVENT
END:VCALENDAR